Workbook
Name _: "="
Name ________DD323: [3]!________DD323
Name ________EE3: [3]!________EE3
Name _______DD323: [3]!_______DD323
Name _______EE3: [3]!_______EE3
Name ______DD323: [3]!______DD323
Name ______EE3: [3]!______EE3
Name ______JHY1: [4]!_xlbgnm.JHY1
Name ______JHY2: [4]!_xlbgnm.JHY2
Name ______LKS1: [4]!_xlbgnm.LKS1
Name ______LKS2: [4]!_xlbgnm.LKS2
Name _____DD323: [3]!_____DD323
Name _____EE3: [3]!_____EE3
Name _____JHY1: [4]!_xlbgnm.JHY1
Name _____JHY2: [4]!_xlbgnm.JHY2
Name _____LKS1: [4]!_xlbgnm.LKS1
Name _____LKS2: [4]!_xlbgnm.LKS2
Name ____DD323: [3]!____DD323
Name ____EE3: [3]!____EE3
Name ____JHY1: '[6]간지(4)'!____JHY1
Name ____JHY2: '[6]간지(4)'!____JHY2
Name ____LKS1: '[6]간지(4)'!____LKS1
Name ____LKS2: '[6]간지(4)'!____LKS2
Name ____tt1: "tt1"
Name ___a10: [4]!_xlbgnm.a10
Name ___a11: [4]!_xlbgnm.a11
Name ___a12: [4]!_xlbgnm.a12
Name ___a13: [4]!_xlbgnm.a13
Name ___a14: [4]!_xlbgnm.a14
Name ___a15: [4]!_xlbgnm.a15
Name ___a16: [4]!_xlbgnm.a16
Name ___a17: [4]!_xlbgnm.a17
Name ___A2: {#N/A,#N/A,FALSE,"운반시간"}
Name ___a4: [4]!_xlbgnm.a4
Name ___A45: {#N/A,#N/A,FALSE,"조골재"}
Name ___A5: {#N/A,#N/A,FALSE,"조골재"}
Name ___A55: {#N/A,#N/A,FALSE,"조골재"}
Name ___A6: {#N/A,#N/A,FALSE,"단가표지"}
Name ___A65: {#N/A,#N/A,FALSE,"2~8번"}
Name ___A7: {#N/A,#N/A,FALSE,"조골재"}
Name ___A8: {#N/A,#N/A,FALSE,"2~8번"}
Name ___A9: {#N/A,#N/A,FALSE,"조골재"}
Name ___AA3: {#N/A,#N/A,FALSE,"조골재"}
Name ___AA4: {#N/A,#N/A,FALSE,"운반시간"}
Name ___AA5: {#N/A,#N/A,FALSE,"조골재"}
Name ___aaa42: '[8]#REF'!$G$48
Name ___aab42: '[8]#REF'!$G$48
Name ___ARG4: '[6]간지(4)'!___ARG4
Name ___as18: '[6]간지(4)'!___as18
Name ___as26: '[6]간지(4)'!___as26
Name ___az16: '[6]간지(4)'!___az16
Name ___az24: '[6]간지(4)'!___az24
Name ___b1: '[6]간지(4)'!___b1
Name ___B2: '[8]단면 (2)'!$K$55
Name ___DD323: [3]!___DD323
Name ___dia10: [9]철근단면적!$C$2
Name ___dia13: [10]철근단면적!$C$3
Name ___dia16: [10]철근단면적!$C$4
Name ___dia19: [10]철근단면적!$C$5
Name ___dia22: [10]철근단면적!$C$6

Sheet 원가
B1: < 표 1 >
B2: 공사원가계산서
B4: 건명 : 2026년 군포환경관리소 촉매 제작구매 및 교체공사 | J4: (단위 : 원)
B5: 구분 | F5: 금액 | G5: 구성비(%) | H5: 비고
B6: ①재료비 | D6: 직접재료비 | H6: 직접재료비 계산표 참조
D7: 간접재료비 | H7: 직접재료비의 | I7: 0.05
D8: (△)작업설ㆍ부산물
D9: 소계
B10: ②노무비 | D10: 직접노무비 | H10: 직접노무비 계산표 참조
D11: 간접노무비 | H11: 직접노무비 의 | I11: 0.175
D12: 소계
B13: ③경비 | D13: 산재보험료 | H13: 노무비 의 | I13: 0.0356
D14: 고용보험료 | H14: 노무비 의 | I14: 0.0101
D15: 연금보험료 | H15: 직접노무비 의 | I15: 0.045 | K15: 1개월 이상
D16: 건강보험료 | H16: 직접노무비 의 | I16: 0.03545 | K16: 1개월 이상
D17: 노인장기요양보험료 | H17: 건강보험료 의 | I17: 0.1295 | K17: 1개월 이상
D18: 폐기물처리비 | H18: 폐촉매처리비 Ton당 | I18: 62000 | J18: 원
D19: 산업안전보건관리비 | F19: 2155550 | H19: (재료비+직접노무비) 의 | I19: 0.0311
D20: 석면분담금 | H20: 노무비 의 | I20: 6e-05
D21: 임금채권부담금 | H21: 노무비 의 | I21: 0.0009
D22: 퇴직공제부금비 | H22: 직접노무비 의 | I22: 0.023 | K22: 1억원 이상
D23: 기타경비 | H23: (재료비+노무비) 의 | I23: 0.05
D24: 건설기계대여대금 지급보증액 발급금액 | H24: 직접공사비의 | I24: 0.001
D25: 환경보전비 | H25: 직접공사비의 | I25: 0.004
D26: 소계
B27: ④ | D27: 계 | H27: ①+②+③
B28: ⑤ | D28: 일반관리비 | H28: ④× | I28: 0.08
B29: ⑥ | D29: 이윤 | H29: (②＋③＋⑤)의 | I29: 0.15
B30: ⑦ | D30: 총원가 | H30: ④+⑤+⑥
B31: ⑧ | D31: 부가가치세 | H31: ⑦× | I31: 0.1
B32: ⑨ | D32: 합계 | H32: ⑦+⑧
F33: 224000000
F34: =+F32-F33 -> -224000000

Sheet 물량
B1: < 표 3 >
B2: 물 량 산 출 표
B5: No. | D5: 공종 | E5: 규격 | F5: 단위 | G5: 산출근거 | H5: 수 량 | J5: 비고 | K5: 비 고
B7: 1 | D7: SCR 촉매
C8: 1 | D8: SCR 촉매(신규) | E8: 압출성형, Honeycomb타입 촉매조성: TiO2/WO3/V2O5 | F8: 개 | G8: 9개/1단×1단 | H8: =9 -> 9 | I8: =+ROUNDDOWN(H8,2) -> 9 | M8: =(600+3240-110+150+1265+150+2505+200+310)*1.08 -> 8974.8
C9: 2 | D9: SCR 촉매(기존) | E9: 압출성형, Honeycomb타입 촉매조성: TiO2/WO3/V2O5 | F9: 개 | G9: 9개/1단×3단 | H9: =9*3 -> 27 | I9: =+ROUNDDOWN(H9,2) -> 27
B11: 2 | D11: SCR 촉매 중량
C12: 1 | D12: SCR 촉매(신규) | E12: 압출성형, Honeycomb타입 촉매조성: TiO2/WO3/V2O5 | F12: kg | G12: 320kg/개×9 | H12: =338*9 -> 3042 | I12: =+ROUNDDOWN(H12,2) -> 3042 | M12: =(1291.7+1169.3)*5.47 -> 13461.67
C13: 2 | D13: SCR 촉매(기존) | E13: 압출성형, Honeycomb타입 촉매조성: TiO2/WO3/V2O5 | F13: kg | G13: 320kg/개×27 | H13: =338*27 -> 9126 | I13: =+ROUNDDOWN(H13,2) -> 9126
B15: 3 | D15: SCR 촉매 부피
C16: 1 | D16: SCR 촉매(신규) | E16: 압출성형, Honeycomb타입 촉매조성: TiO2/WO3/V2O5 | F16: ㎥ | G16: (0.95m×0.95m×0.845m)/개×9개 | H16: =0.95*0.95*0.845*9 -> 6.8635125 | I16: =+ROUNDDOWN(H16,2) -> 6.86
B18: 4 | D18: SCR 촉매 표면
C19: 1 | D19: SCR 촉매(신규) | E19: 압출성형, Honeycomb타입 촉매조성: TiO2/WO3/V2O5 | F19: ㎡ | G19: {(0.95m×0.95m)+(0.95m×0.845m)×4}×9 | H19: =((0.95*0.95)+(0.95*0.845)*4)*9 -> 37.0215 | I19: =+ROUNDDOWN(H19,2) -> 37.02
C20: 1 | D20: SCR 촉매(기존) | E20: 압출성형, Honeycomb타입 촉매조성: TiO2/WO3/V2O5 | F20: ㎡ | G20: {(0.95m×0.95m)+(0.95m×0.845m)×4}×27 | H20: =((0.95*0.95)+(0.95*0.845)*4)*27 -> 111.0645 | I20: =+ROUNDDOWN(H20,2) -> 111.06

Sheet 내역서2222
B1: < 표 Ⅳ-1 >
B2: 공 종 별 내 역 서
O4: (단위 : 원)
B5: No. | D5: 품 명 | E5: 규 격 | F5: 단위 | G5: 수량 | H5: 재 료 비 | J5: 노 무 비 | L5: 경 비 | N5: 계 | O5: 비고 | Q5: 재 료 비
H6: 단 가 | I6: 금 액 | J6: 단 가 | K6: 금 액 | L6: 단 가 | M6: 금 액 | Q6: 단 가
B7: 1 | C7: =물량!#REF! -> #REF! | D7: =물량!D7 -> SCR 촉매 | E7: =물량!#REF! -> #REF! | N7: =SUM(N8:N9) -> #REF!
B8: =물량!#REF! -> #REF! | C8: =물량!#REF! -> #REF! | D8: =물량!D8 -> SCR 촉매(신규) | E8: =물량!E8 -> 압출성형, Honeycomb타입 촉매조성: TiO2/WO3/V2O5 | F8: =물량!F8 -> 개 | G8: =물량!I7 -> 0 | H8: =#REF! -> #REF! | I8: =+ROUNDDOWN($G8*H8,) -> #REF! | K8: =+ROUNDDOWN($G8*J8,) -> 0 | M8: =+ROUNDDOWN($G8*L8,) -> 0 | N8: =+M8+K8+I8 -> #REF! | Q8: 866
B9: =물량!#REF! -> #REF! | C9: 2 | D9: 펌프 철거 및 설치 | E9: =물량!#REF! -> #REF! | F9: =일위대가222!D8 -> 개 | G9: =일위대가222!E8 -> 10 | H9: =일위대가222!F8 -> #REF! | I9: =+ROUNDDOWN($G9*H9,) -> #REF! | J9: =일위대가222!H8 -> #REF! | K9: =+ROUNDDOWN($G9*J9,) -> #REF! | M9: =+ROUNDDOWN($G9*L9,) -> 0 | N9: =+M9+K9+I9 -> #REF! | Q9: 825
B11: 2 | D11: =물량!#REF! -> #REF! | N11: =SUM(N12:N12) -> #REF!
B12: =물량!#REF! -> #REF! | C12: =물량!#REF! -> #REF! | D12: =물량!#REF! -> #REF! | E12: =물량!#REF! -> #REF! | F12: =물량!#REF! -> #REF! | G12: =물량!#REF! -> #REF! | H12: =#REF! -> #REF! | I12: =+ROUNDDOWN($G12*H12,) -> #REF! | K12: =+ROUNDDOWN($G12*J12,) -> #REF! | M12: =+ROUNDDOWN($G12*L12,) -> #REF! | N12: =+M12+K12+I12 -> #REF!
B14: 3 | C14: =물량!C11 -> 0 | D14: =물량!D11 -> SCR 촉매 중량 | E14: =물량!E11 -> 0 | F14: =+물량!F11 -> 0 | I14: =+ROUNDDOWN($G14*H14,) -> 0 | K14: =+ROUNDDOWN($G14*J14,) -> 0 | M14: =+ROUNDDOWN($G14*L14,) -> 0 | N14: =SUM(N15:N16) -> #REF! | Q14: 805
B15: =물량!B12 -> 0 | C15: =물량!C12 -> 1 | D15: =물량!D12 -> SCR 촉매(신규) | E15: =물량!E12 -> 압출성형, Honeycomb타입 촉매조성: TiO2/WO3/V2O5 | F15: =+물량!F12 -> kg | G15: =물량!I12 -> 3042 | H15: =#REF! -> #REF! | I15: =+ROUNDDOWN($G15*H15,) -> #REF! | K15: =+ROUNDDOWN($G15*J15,) -> 0 | M15: =+ROUNDDOWN($G15*L15,) -> 0 | N15: =+M15+K15+I15 -> #REF! | Q15: 866
C16: 2 | D16: 교반기 철거 및 설치 | F16: =일위대가222!D13 -> ton | G16: =일위대가222!E13 -> 0.09 | J16: =일위대가222!H13 -> #REF! | K16: =+ROUNDDOWN($G16*J16,) -> #REF! | N16: =+M16+K16+I16 -> #REF!
B18: 4 | D18: =물량!#REF! -> #REF! | N18: =SUM(N19:N25) -> #REF!
C19: =물량!#REF! -> #REF! | D19: =물량!#REF! -> #REF! | E19: =물량!#REF! -> #REF! | F19: =물량!#REF! -> #REF! | G19: =물량!#REF! -> #REF! | H19: =#REF! -> #REF! | I19: =+ROUNDDOWN($G19*H19,) -> #REF! | N19: =+M19+K19+I19 -> #REF!
C20: =물량!#REF! -> #REF! | D20: =물량!#REF! -> #REF! | E20: =물량!#REF! -> #REF! | F20: =물량!#REF! -> #REF! | G20: =물량!#REF! -> #REF! | H20: =#REF! -> #REF! | I20: =+ROUNDDOWN($G20*H20,) -> #REF! | N20: =+M20+K20+I20 -> #REF!
C21: =물량!#REF! -> #REF! | D21: =물량!#REF! -> #REF! | E21: =물량!#REF! -> #REF! | F21: =물량!#REF! -> #REF! | G21: =물량!#REF! -> #REF! | H21: =#REF! -> #REF! | I21: =+ROUNDDOWN($G21*H21,) -> #REF! | N21: =+M21+K21+I21 -> #REF!
C22: =물량!#REF! -> #REF! | D22: =물량!#REF! -> #REF! | E22: =물량!#REF! -> #REF! | F22: =물량!#REF! -> #REF! | G22: =물량!#REF! -> #REF! | H22: =#REF! -> #REF! | I22: =+ROUNDDOWN($G22*H22,) -> #REF! | K22: =+ROUNDDOWN($G22*J22,) -> #REF! | N22: =+M22+K22+I22 -> #REF!
C23: =물량!#REF! -> #REF! | D23: =물량!#REF! -> #REF! | E23: =물량!#REF! -> #REF! | F23: =물량!#REF! -> #REF! | G23: =물량!#REF! -> #REF! | H23: =#REF! -> #REF! | I23: =+ROUNDDOWN($G23*H23,) -> #REF! | K23: =+ROUNDDOWN($G23*J23,) -> #REF! | N23: =+M23+K23+I23 -> #REF!
C24: =물량!#REF! -> #REF! | D24: =물량!#REF! -> #REF! | E24: =물량!#REF! -> #REF! | F24: =물량!#REF! -> #REF! | G24: =물량!#REF! -> #REF! | H24: =#REF! -> #REF! | I24: =+ROUNDDOWN($G24*H24,) -> #REF! | K24: =+ROUNDDOWN($G24*J24,) -> #REF! | N24: =+M24+K24+I24 -> #REF!
C25: 7 | D25: 배관 철거 및 설치 | F25: m | G25: =일위대가222!E28 -> #REF! | J25: =일위대가222!H28 -> #REF! | K25: =+ROUNDDOWN($G25*J25,) -> #REF! | N25: =+M25+K25+I25 -> #REF!
B27: 5 | D27: =물량!#REF! -> #REF! | N27: =SUM(N28:N31) -> #REF!
C28: 1 | D28: =물량!#REF! -> #REF! | E28: =물량!#REF! -> #REF! | F28: =물량!#REF! -> #REF! | G28: =물량!#REF! -> #REF! | H28: =#REF! -> #REF! | I28: =+ROUNDDOWN($G28*H28,) -> #REF! | K28: =+ROUNDDOWN($G28*J28,) -> #REF! | N28: =+M28+K28+I28 -> #REF!
C29: 2 | D29: =물량!#REF! -> #REF! | E29: =물량!#REF! -> #REF! | F29: =물량!#REF! -> #REF! | G29: =물량!#REF! -> #REF! | H29: =#REF! -> #REF! | I29: =+ROUNDDOWN($G29*H29,) -> #REF! | K29: =+ROUNDDOWN($G29*J29,) -> #REF! | N29: =+M29+K29+I29 -> #REF!
C30: 3 | D30: =물량!#REF! -> #REF! | E30: =물량!#REF! -> #REF! | F30: =물량!#REF! -> #REF! | G30: =물량!#REF! -> #REF! | H30: =#REF! -> #REF! | I30: =+ROUNDDOWN($G30*H30,) -> #REF! | K30: =+ROUNDDOWN($G30*J30,) -> #REF! | N30: =+M30+K30+I30 -> #REF!
C31: 4 | D31: 밸브 철거 및 설치 | F31: EA | G31: =일위대가222!E33 -> #REF! | J31: =일위대가222!H33 -> #REF! | K31: =+ROUNDDOWN($G31*J31,) -> #REF! | N31: =+M31+K31+I31 -> #REF!
B33: 6 | D33: =물량!#REF! -> #REF! | H33: =#REF! -> #REF! | I33: =+ROUNDDOWN($G33*H33,) -> #REF! | K33: =+ROUNDDOWN($G33*J33,) -> 0 | M33: =+ROUNDDOWN($G33*L33,) -> 0 | N33: =SUM(N34:N38) -> #REF!
B34: =물량!#REF! -> #REF! | C34: 1 | D34: =물량!#REF! -> #REF! | E34: =물량!#REF! -> #REF! | F34: kg | G34: =물량!#REF! -> #REF! | H34: =#REF! -> #REF! | I34: =G34*H34 -> #REF! | J34: =일위대가222!H45 -> #REF! | K34: =+ROUNDDOWN($G34*J34,) -> #REF! | M34: =+ROUNDDOWN($G34*L34,) -> #REF! | N34: =+M34+K34+I34 -> #REF!
C35: 2 | D35: 형틀제작 및 철거 | F35: =일위대가222!D37 -> ㎡ | G35: =일위대가222!E37 -> 6.4 | H35: =일위대가222!F37 -> #REF! | I35: =G35*H35 -> #REF! | J35: =일위대가222!H37 -> #REF! | K35: =+ROUNDDOWN($G35*J35,) -> #REF! | N35: =+M35+K35+I35 -> #REF!
C36: 3 | D36: 콘크리트 현장비빔 타설 | F36: =일위대가222!D48 -> ㎥ | G36: =일위대가222!E48 -> #REF! | J36: =일위대가222!H48 -> #REF! | K36: =+ROUNDDOWN($G36*J36,) -> #REF! | N36: =+M36+K36+I36 -> #REF!
C37: 4 | D37: 콘크리트 철거 | F37: =일위대가222!D52 -> ㎥ | G37: =일위대가222!E52 -> #REF! | H37: =일위대가222!F52 -> #REF! | I37: =G37*H37 -> #REF! | J37: =일위대가222!H52 -> #REF! | K37: =+ROUNDDOWN($G37*J37,) -> #REF! | L37: =일위대가222!J52 -> #REF! | M37: =+ROUNDDOWN($G37*L37,) -> #REF! | N37: =+M37+K37+I37 -> #REF!
C38: 5 | D38: 에폭시라이닝 | E38: 3㎜ | F38: =일위대가222!D58 -> ㎡ | G38: =일위대가222!E58 -> 19.8 | H38: =일위대가222!F58 -> 29833.95 | I38: =G38*H38 -> 590712.21 | J38: =일위대가222!H58 -> #REF! | K38: =+ROUNDDOWN($G38*J38,) -> #REF! | N38: =+M38+K38+I38 -> #REF!
B40: 7 | D40: =물량!#REF! -> #REF! | H40: =#REF! -> #REF! | I40: =+ROUNDDOWN($G40*H40,) -> #REF! | K40: =+ROUNDDOWN($G40*J40,) -> 0 | M40: =+ROUNDDOWN($G40*L40,) -> 0 | N40: =SUM(N41:N45) -> #REF!
C41: 1 | D41: =물량!#REF! -> #REF! | E41: =물량!#REF! -> #REF! | F41: =물량!#REF! -> #REF! | G41: =물량!#REF! -> #REF! | H41: =#REF! -> #REF! | I41: =G41*H41 -> #REF! | N41: =+M41+K41+I41 -> #REF!
C42: 2 | D42: 철골가공 | F42: =일위대가222!D68 -> #REF! | G42: =일위대가222!E68 -> #REF! | J42: =일위대가222!H68 -> #REF! | K42: =+ROUNDDOWN($G42*J42,) -> #REF! | N42: =+M42+K42+I42 -> #REF!
C43: 3 | D43: 철골 철거 및 세우기 | F43: =일위대가222!D71 -> #REF! | G43: =일위대가222!E71 -> #REF! | J43: =일위대가222!H71 -> #REF! | K43: =+ROUNDDOWN($G43*J43,) -> #REF! | N43: =+M43+K43+I43 -> #REF!
C44: 4 | D44: 용접접합 | F44: =일위대가222!D76 -> 개소 | G44: =일위대가222!E76 -> #REF! | J44: =일위대가222!H76 -> #REF! | K44: =+ROUNDDOWN($G44*J44,) -> #REF! | N44: =+M44+K44+I44 -> #REF!
D46: 계 | I46: =SUM(I7:I45) -> #REF! | K46: =SUM(K7:K45) -> #REF! | M46: =SUM(M7:M45) -> #REF! | N46: =N7+N11+N14+N18+N27+N33+N40 -> #REF!

Sheet 일위대가222
B1: < 표 Ⅳ-2 >
B2: 일 위 대 가
M4: (단위 : 원)
B5: 품 명 | C5: 규 격 | D5: 단위 | E5: 수량 | F5: 재 료 비 | H5: 노 무 비 | J5: 경 비 | L5: 합 계 | M5: 비 고
F6: 단 가 | G6: 금 액 | H6: 단 가 | I6: 금 액 | J6: 단 가 | K6: 금 액
B7: 1. 설비 해체 및 설치 | L7: =L8+L13 -> #REF!
B8: 가. 펌프해체 및 설치 | C8: =물량!E8 -> 압출성형, Honeycomb타입 촉매조성: TiO2/WO3/V2O5 | D8: =물량!F8 -> 개 | E8: 10 | F8: =G8/E8 -> #REF! | G8: =SUM(G9:G11) -> #REF! | H8: =I8/E8 -> #REF! | I8: =SUM(I9:I11) -> #REF! | L8: =SUM(L9:L11) -> #REF! | M8: page.753 일반펌프 설치
B9: 기계설비공 | D9: 인 | E9: =E8*N9*1.5 -> 11.49 | H9: =VLOOKUP(B9,#REF!,2,FALSE) -> #REF! | I9: =ROUNDDOWN($E9*H9,) -> #REF! | L9: =SUM(G9,I9,K9) -> #REF! | N9: 0.766 | O9: *철거는 장소협소 및 고소작업으로 설치의 50%로 계상
B10: 보통인부 | D10: 인 | E10: =E9*N10*1.5 -> 4.37769 | H10: =VLOOKUP(B10,#REF!,2,FALSE) -> #REF! | I10: =ROUNDDOWN($E10*H10,) -> #REF! | L10: =SUM(G10,I10,K10) -> #REF! | N10: 0.254
B11: 공구손료 | C11: 인건비의 3% | D11: 식 | E11: 1 | F11: =I8*N11 -> #REF! | G11: =E11*F11 -> #REF! | L11: =SUM(G11,I11,K11) -> #REF! | N11: 0.03
B13: 나. 교반기 철거 및 설치 | C13: =물량!E12 -> 압출성형, Honeycomb타입 촉매조성: TiO2/WO3/V2O5 | D13: ton | E13: =(30*3)/1000 -> 0.09 | H13: =I13/E13 -> #REF! | I13: =SUM(I14:I19) -> #REF! | L13: =SUM(L14:L19) -> #REF! | M13: page.914 일반기기 설치 | O13: *철거는 장소협소 및 고소작업으로 설치의 50%로 계상. 부분 조립작업 할증 50%, 설치중량 0.5톤 미만 20% 가산
B14: 기계산업기사 | C14: 초급기술자 | D14: 인 | E14: =E13*N14*(1+O14) -> 0.099 | H14: =VLOOKUP(B14,#REF!,2,FALSE) -> #REF! | I14: =ROUNDDOWN($E14*H14,) -> #REF! | L14: =SUM(G14,I14,K14) -> #REF! | N14: 0.5 | O14: =0.5+0.5+0.2 -> 1.2
B15: 기계설비공 | D15: 인 | E15: =E13*N15*(1+O15) -> 1.43352 | H15: =VLOOKUP(B15,#REF!,2,FALSE) -> #REF! | I15: =ROUNDDOWN($E15*H15,) -> #REF! | L15: =SUM(G15,I15,K15) -> #REF! | N15: 7.24 | O15: =0.5+0.5+0.2 -> 1.2
B16: 비계공 | D16: 인 | E16: =E13*N16*(1+O16) -> 0.56628 | H16: =VLOOKUP(B16,#REF!,2,FALSE) -> #REF! | I16: =ROUNDDOWN($E16*H16,) -> #REF! | L16: =SUM(G16,I16,K16) -> #REF! | N16: 2.86 | O16: =0.5+0.5+0.2 -> 1.2
B17: 용접공 | D17: 인 | E17: =E13*N17*(1+O17) -> 0.1881 | H17: =VLOOKUP(B17,#REF!,2,FALSE) -> #REF! | I17: =ROUNDDOWN($E17*H17,) -> #REF! | L17: =SUM(G17,I17,K17) -> #REF! | N17: 0.95 | O17: =0.5+0.5+0.2 -> 1.2
B18: 특별인부 | D18: 인 | E18: =E13*N18*(1+O18) -> 0.7722 | H18: =VLOOKUP(B18,#REF!,2,FALSE) -> #REF! | I18: =ROUNDDOWN($E18*H18,) -> #REF! | L18: =SUM(G18,I18,K18) -> #REF! | N18: 3.9 | O18: =0.5+0.5+0.2 -> 1.2
B19: 검사 및 교정 | C19: 기술관리를 제외한 본품의 10% | D19: 식 | E19: 1 | H19: =SUM(I15:I18)*10% -> #REF! | I19: =ROUNDDOWN($E19*H19,) -> #REF! | L19: =SUM(G19,I19,K19) -> #REF!
B21: 2. 비계설치 및 해체 | L21: =L22 -> #REF! | M21: page.39 강관비계 설치 및 해체
B22: 가. 비계 설치 및 해체 | D22: ㎡ | E22: =6*8*3 -> 144 | F22: =G22/E22 -> #REF! | G22: =SUM(G23:G25) -> #REF! | H22: =I22/E22 -> #REF! | I22: =SUM(I23:I25) -> #REF! | L22: =SUM(L23:L25) -> #REF!
B23: 비계공 | D23: 인 | E23: =E22*N23 -> 7.2 | G23: =ROUNDDOWN($E23*F23,1) -> 0 | H23: =VLOOKUP(B23,#REF!,2,FALSE) -> #REF! | I23: =ROUNDDOWN($E23*H23,) -> #REF! | K23: =ROUNDDOWN($E23*J23,1) -> 0 | L23: =SUM(G23,I23,K23) -> #REF! | N23: 0.05
B24: 보통인부 | D24: 인 | E24: =E22*N24 -> 2.88 | G24: =ROUNDDOWN($E24*F24,1) -> 0 | H24: =VLOOKUP(B24,#REF!,2,FALSE) -> #REF! | I24: =ROUNDDOWN($E24*H24,) -> #REF! | K24: =ROUNDDOWN($E24*J24,1) -> 0 | L24: =SUM(G24,I24,K24) -> #REF! | N24: 0.02
B25: 공구손료 | C25: 인건비의 2% | D25: 식 | E25: 1 | F25: =ROUNDDOWN((L23+L24)*N25,) -> #REF! | G25: =ROUNDDOWN($E25*F25,1) -> #REF! | K25: =ROUNDDOWN($E25*J25,1) -> 0 | L25: =SUM(G25,I25,K25) -> #REF! | N25: 0.02
B27: 3. 배관공사 | L27: =L28 -> #REF! | M27: page.738 폴리부틸렌 일반접합 및 배관
B28: 가. 배관 철거 및 설치 | D28: m | E28: =물량!#REF!*6 -> #REF! | H28: =I28/E28 -> #REF! | I28: =SUM(I29:I30) -> #REF! | L28: =SUM(L29:L30) -> #REF!
B29: 배관공 | D29: 인 | E29: =E28*N29*1.5 -> #REF! | H29: =VLOOKUP(B29,#REF!,2,FALSE) -> #REF! | I29: =ROUNDDOWN($E29*H29,) -> #REF! | L29: =SUM(G29,I29,K29) -> #REF! | N29: 0.038 | O29: *철거는 장소협소 및 고소작업으로 설치의 50%로 계상
B30: 보통인부 | D30: 인 | E30: =E28*N30*1.5 -> #REF! | H30: =VLOOKUP(B30,#REF!,2,FALSE) -> #REF! | I30: =ROUNDDOWN($E30*H30,) -> #REF! | L30: =SUM(G30,I30,K30) -> #REF! | N30: 0.015
B32: 4. 밸브설비공사 | L32: =L33 -> #REF! | M32: page.756 일반밸브 설치
B33: 가. 밸브 철거 및 설치 | D33: EA | E33: =물량!#REF! -> #REF! | H33: =I33/E33 -> #REF! | I33: =I34 -> #REF! | L33: =SUM(L34:L34) -> #REF!
B34: 배관공 | D34: 인 | E34: =E33*N34*1.5 -> #REF! | H34: =VLOOKUP(B34,#REF!,2,FALSE) -> #REF! | I34: =ROUNDDOWN($E34*H34,) -> #REF! | L34: =SUM(G34,I34,K34) -> #REF! | N34: 0.05 | O34: *철거는 장소협소 및 고소작업으로 설치의 50%로 계상
B36: 5. 기초공사 | L36: =L37+L45+L48+L52+L58 -> #REF! | M36: page.171 합판거푸집 설치 및 해체
B37: 가. 합판거푸집 설치 및 제거 | D37: ㎡ | E37: =(6*0.4*2+2*0.4*2) -> 6.4 | F37: =G37/E37 -> #REF! | G37: =SUM(G38:G43) -> #REF! | H37: =I37/E37 -> #REF! | I37: =SUM(I38:I43) -> #REF! | L37: =SUM(L38:L43) -> #REF!
B38: 합판 | D38: ㎡ | E38: =E37 -> 6.4 | F38: 10313 | G38: =ROUNDDOWN(E38*F38*N38,) -> 67983 | I38: =ROUNDDOWN($E38*H38,1) -> 0 | K38: =ROUNDDOWN($E38*J38,1) -> 0 | L38: =SUM(G38,I38,K38) -> 67983 | N38: 1.03
B39: 각재 | D39: ㎡ | E39: =E37 -> 6.4 | F39: 835326 | G39: =ROUNDDOWN(E39*F39*N39,) -> 203151 | I39: =ROUNDDOWN($E39*H39,1) -> 0 | K39: =ROUNDDOWN($E39*J39,1) -> 0 | L39: =SUM(G39,I39,K39) -> 203151 | N39: 0.038
B40: 소모자재 | C40: 재료비의 4% | D40: 식 | E40: 1 | F40: =ROUNDDOWN((L38+L39)*N40,) -> 1084 | G40: =ROUNDDOWN($E40*F40,1) -> 1084 | K40: =ROUNDDOWN($E40*J40,1) -> 0 | L40: =SUM(G40,I40,K40) -> 1084 | N40: 0.004 | O40: 재료비의 4%
B41: 공구손료 | C41: 인건비의 1% | D41: 식 | E41: 1 | F41: =ROUNDDOWN((I42+I43)*N41,) -> #REF! | G41: =E41*F41 -> #REF! | L41: =SUM(G41,I41,K41) -> #REF! | N41: 0.001 | O41: 인건비의 1%
B42: 형틀목공 | D42: 인 | E42: =E37*N42 -> 1.472 | H42: =VLOOKUP(B42,#REF!,2,FALSE) -> #REF! | I42: =ROUNDDOWN($E42*H42,) -> #REF! | L42: =SUM(G42,I42,K42) -> #REF! | N42: 0.23
B43: 보통인부 | D43: 인 | E43: =E37*N43 -> 0.896 | H43: =VLOOKUP(B43,#REF!,2,FALSE) -> #REF! | I43: =ROUNDDOWN($E43*H43,) -> #REF! | L43: =SUM(G43,I43,K43) -> #REF! | N43: 0.14
B45: 나. 드라이 모르터 자재운반 | D45: kg | E45: =물량!#REF! -> #REF! | H45: =I45/E45 -> #REF! | I45: =I46 -> #REF! | L45: =SUM(L46:L46) -> #REF! | M45: page.22 인력운반 | O45: =A/T*M*((60*2*L/V)+2) | P45: A(보통인부 단가) | Q45: T(1일 작업시간 분) | R45: M(운반량/1인당 1회 운반량) | S45: L(운반거리km) | T45: V(왕복평균속도km/hr)
B46: 보통인부 | D46: 인 | E46: =O46/H46 -> #REF! | H46: =VLOOKUP(B46,#REF!,2,FALSE) -> #REF! | I46: =ROUNDDOWN($E46*H46,) -> #REF! | L46: =SUM(G46,I46,K46) -> #REF! | O46: =P46/Q46*R46*(60*2*S46/T46+2) -> #REF! | P46: =#REF! -> #REF! | Q46: 360 | R46: =물량!#REF!/25 -> #REF! | S46: 0.04 | T46: 2
B48: 다. 콘크리트 현장비빔 타설 | D48: ㎥ | E48: =물량!#REF!/1000/2.1 -> #REF! | H48: =I48/E48 -> #REF! | I48: =SUM(I49:I50) -> #REF! | L48: =SUM(L49:L50) -> #REF! | M48: page.137 콘크리트 현장비빔타설
...
